BEGIN:VCALENDAR
VERSION:2.0
PRODID:icalendar-ruby
CALSCALE:GREGORIAN
BEGIN:VEVENT
DTSTAMP:20260425T140353Z
UID:ef447c12-e96b-4ba4-bd31-d6ef35a5aaad
DTSTART;VALUE=DATE:20260414
DESCRIPTION:Property ID# 605155\, Locatoin: Ray White Wellington City Level
  1\,77 Thorndon Quay\, Thorndon\, Time: 2:00PM
SUMMARY:Auction for 19 Churton Drive
END:VEVENT
END:VCALENDAR
