BEGIN:VCALENDAR
VERSION:2.0
PRODID:icalendar-ruby
CALSCALE:GREGORIAN
BEGIN:VEVENT
DTSTAMP:20260424T103712Z
UID:31d44847-320c-4743-87ea-66db561594d1
DTSTART;VALUE=DATE:20251117
DESCRIPTION:Property ID# 597917\, Time: 4:00PM
SUMMARY:Auction for 
END:VEVENT
END:VCALENDAR
