BEGIN:VCALENDAR
VERSION:2.0
PRODID:icalendar-ruby
CALSCALE:GREGORIAN
BEGIN:VEVENT
DTSTAMP:20260419T122810Z
UID:6fbdac63-1310-41ae-b0ea-ec62f248eed2
DTSTART;VALUE=DATE:20250925
DESCRIPTION:Property ID# 596583\, Locatoin: 8 Kent Terrace\, Wellington\, T
 ime: 12:00PM
SUMMARY:Auction for 
END:VEVENT
END:VCALENDAR
