BEGIN:VCALENDAR
VERSION:2.0
PRODID:icalendar-ruby
CALSCALE:GREGORIAN
BEGIN:VEVENT
DTSTAMP:20260419T130509Z
UID:f11935d2-e20e-4415-97c3-4b49ae9e0c68
DTSTART;VALUE=DATE:20250710
DESCRIPTION:Property ID# 594223\, Locatoin: 8 Kent Terrace\, Wellington \, 
 Time: 1:00PM
SUMMARY:Auction for 
END:VEVENT
END:VCALENDAR
