BEGIN:VCALENDAR
VERSION:2.0
PRODID:icalendar-ruby
CALSCALE:GREGORIAN
BEGIN:VEVENT
DTSTAMP:20260420T155842Z
UID:09699819-745c-4b14-9a6b-0184a9b1dcb7
DTSTART;VALUE=DATE:20250514
DESCRIPTION:Property ID# 591385\, Locatoin: 8 Kent Terrace\, Wellington\, T
 ime: 1:00PM
SUMMARY:Auction for 
END:VEVENT
END:VCALENDAR
