BEGIN:VCALENDAR
VERSION:2.0
PRODID:icalendar-ruby
CALSCALE:GREGORIAN
BEGIN:VEVENT
DTSTAMP:20260420T191713Z
UID:980097d1-e1a1-43f7-ad36-c071b592c80a
DTSTART;VALUE=DATE:20240606
DESCRIPTION:Property ID# 575930\, Locatoin: 8 Kent Terrace\, Wellington\, T
 ime: 1:00AM
SUMMARY:Auction for 
END:VEVENT
END:VCALENDAR
