BEGIN:VCALENDAR
VERSION:2.0
PRODID:icalendar-ruby
CALSCALE:GREGORIAN
BEGIN:VEVENT
DTSTAMP:20260420T183109Z
UID:a264ee4c-bc89-4d0e-8f75-3c37d7b2d625
DTSTART;VALUE=DATE:20210127
DESCRIPTION:Property ID# 499449\, Time: 12:00PM
SUMMARY:Auction for 
END:VEVENT
END:VCALENDAR
